BEGIN:VCALENDAR
VERSION:2.0
PRODID:-//Tabley Parish Council//Meeting Calendar//EN
CALSCALE:GREGORIAN
METHOD:PUBLISH
BEGIN:VEVENT
UID:70594-20260309@tableyparishcouncil.gov.uk
DTSTAMP:20260420T080203Z
DTSTART;VALUE=DATE:20260309
DTEND;VALUE=DATE:20260310
SUMMARY:Council Meeting &#8211\\; 2026-03
DESCRIPTION:Full Council Meeting\nView details: https://tableyparishcouncil.gov.uk/meetings/council-meeting-2026-03/
URL:https://tableyparishcouncil.gov.uk/meetings/council-meeting-2026-03/
END:VEVENT
END:VCALENDAR
